BEGIN:VCALENDAR
VERSION:2.0
PRODID:-//Gien-RelaxVTT - ECPv6.15.13.1//NONSGML v1.0//EN
CALSCALE:GREGORIAN
METHOD:PUBLISH
X-ORIGINAL-URL:https://www.gien-relax.fr
X-WR-CALDESC:Évènements pour Gien-RelaxVTT
REFRESH-INTERVAL;VALUE=DURATION:PT1H
X-Robots-Tag:noindex
X-PUBLISHED-TTL:PT1H
BEGIN:VTIMEZONE
TZID:Europe/Paris
BEGIN:DAYLIGHT
TZOFFSETFROM:+0100
TZOFFSETTO:+0200
TZNAME:CEST
DTSTART:20190331T010000
END:DAYLIGHT
BEGIN:STANDARD
TZOFFSETFROM:+0200
TZOFFSETTO:+0100
TZNAME:CET
DTSTART:20191027T010000
END:STANDARD
BEGIN:DAYLIGHT
TZOFFSETFROM:+0100
TZOFFSETTO:+0200
TZNAME:CEST
DTSTART:20200329T010000
END:DAYLIGHT
BEGIN:STANDARD
TZOFFSETFROM:+0200
TZOFFSETTO:+0100
TZNAME:CET
DTSTART:20201025T010000
END:STANDARD
BEGIN:DAYLIGHT
TZOFFSETFROM:+0100
TZOFFSETTO:+0200
TZNAME:CEST
DTSTART:20210328T010000
END:DAYLIGHT
BEGIN:STANDARD
TZOFFSETFROM:+0200
TZOFFSETTO:+0100
TZNAME:CET
DTSTART:20211031T010000
END:STANDARD
BEGIN:DAYLIGHT
TZOFFSETFROM:+0100
TZOFFSETTO:+0200
TZNAME:CEST
DTSTART:20220327T010000
END:DAYLIGHT
BEGIN:STANDARD
TZOFFSETFROM:+0200
TZOFFSETTO:+0100
TZNAME:CET
DTSTART:20221030T010000
END:STANDARD
BEGIN:DAYLIGHT
TZOFFSETFROM:+0100
TZOFFSETTO:+0200
TZNAME:CEST
DTSTART:20230326T010000
END:DAYLIGHT
BEGIN:STANDARD
TZOFFSETFROM:+0200
TZOFFSETTO:+0100
TZNAME:CET
DTSTART:20231029T010000
END:STANDARD
BEGIN:DAYLIGHT
TZOFFSETFROM:+0100
TZOFFSETTO:+0200
TZNAME:CEST
DTSTART:20240331T010000
END:DAYLIGHT
BEGIN:STANDARD
TZOFFSETFROM:+0200
TZOFFSETTO:+0100
TZNAME:CET
DTSTART:20241027T010000
END:STANDARD
BEGIN:DAYLIGHT
TZOFFSETFROM:+0100
TZOFFSETTO:+0200
TZNAME:CEST
DTSTART:20250330T010000
END:DAYLIGHT
BEGIN:STANDARD
TZOFFSETFROM:+0200
TZOFFSETTO:+0100
TZNAME:CET
DTSTART:20251026T010000
END:STANDARD
END:VTIMEZONE
BEGIN:VEVENT
DTSTART;TZID=Europe/Paris:20240204T083000
DTEND;TZID=Europe/Paris:20240204T120000
DTSTAMP:20260424T123634
CREATED:20190429T124323Z
LAST-MODIFIED:20240130T105914Z
UID:1764-1707035400-1707048000@www.gien-relax.fr
SUMMARY:SEC à Gien ( Autry le châtel )
DESCRIPTION:Rendez-vous: \n\nà 8h45 pour un départ à 9h00.\nParking place du Château à Gien.\nCircuit de 45 km environ.\n\n  \n  \n  \n 
URL:https://www.gien-relax.fr/event/sec-a-gien-ou-boissy-aux-cailles/
LOCATION:Parking place du Château à Gien\, Parking place du Château\, Gien\, 45500
CATEGORIES:SEC,Sorties à venir
END:VEVENT
BEGIN:VEVENT
DTSTART;TZID=Europe/Paris:20240128T090000
DTEND;TZID=Europe/Paris:20240128T120000
DTSTAMP:20260424T123634
CREATED:20151130T161900Z
LAST-MODIFIED:20231226T112948Z
UID:1022-1706432400-1706443200@www.gien-relax.fr
SUMMARY:SEC à Gien (Etang de Corcambon)
DESCRIPTION:Rendez-vous: \n\nà 8h45 pour un départ à 9h00.\nParking place du Château à Gien.\nCircuit de 45 km environ.\n\n 
URL:https://www.gien-relax.fr/event/sec-a-gien-30/
CATEGORIES:SEC,Sorties à venir
END:VEVENT
BEGIN:VEVENT
DTSTART;TZID=Europe/Paris:20240114T084500
DTEND;TZID=Europe/Paris:20240114T120000
DTSTAMP:20260424T123634
CREATED:20151130T161537Z
LAST-MODIFIED:20231226T112022Z
UID:1019-1705221900-1705233600@www.gien-relax.fr
SUMMARY:SEC à Gien (Arrabloy- Briare - Saint-Martin...)
DESCRIPTION:Rendez-vous: \n\nParking Place du Château à Gien.\nà 8h45 pour un départ à 9h00.\nCircuit de 45 km.
URL:https://www.gien-relax.fr/event/sec-a-gien-27/
CATEGORIES:SEC,Sorties à venir
END:VEVENT
BEGIN:VEVENT
DTSTART;TZID=Europe/Paris:20240107T084500
DTEND;TZID=Europe/Paris:20240107T120000
DTSTAMP:20260424T123634
CREATED:20151130T161648Z
LAST-MODIFIED:20231226T111918Z
UID:1020-1704617100-1704628800@www.gien-relax.fr
SUMMARY:SEC à Gien (Les Autruches) ...
DESCRIPTION:Rendez-vous: \n\nà 8h45 pour un départ à 9h00.\nParking place du Château à Gien.\nCircuit de 45 km environ 
URL:https://www.gien-relax.fr/event/sec-a-gien-28/
CATEGORIES:SEC,Sorties à venir
END:VEVENT
BEGIN:VEVENT
DTSTART;TZID=Europe/Paris:20231231T090000
DTEND;TZID=Europe/Paris:20231231T120000
DTSTAMP:20260424T123634
CREATED:20231130T164004Z
LAST-MODIFIED:20231130T164004Z
UID:3138-1704013200-1704024000@www.gien-relax.fr
SUMMARY:SEC à Gien de La Saint-Sylvestre ...
DESCRIPTION:Rendez-vous: \n\nà 8h45 pour un départ à 9h00.\nParking Place du Château à gien\nCircuit de 45 km environ.\n\n 
URL:https://www.gien-relax.fr/event/sec-a-gien-de-la-saint-sylvestre/
CATEGORIES:SEC,Sorties à venir
END:VEVENT
BEGIN:VEVENT
DTSTART;TZID=Europe/Paris:20231224T090000
DTEND;TZID=Europe/Paris:20231224T120000
DTSTAMP:20260424T123634
CREATED:20190527T093642Z
LAST-MODIFIED:20231130T163834Z
UID:1793-1703408400-1703419200@www.gien-relax.fr
SUMMARY:SEC à Gien  pour les très courageux ...
DESCRIPTION:Rendez-vous: \n\nà 8h45 pour un départ à 9h00.\nParking Place du Château à gien\nCircuit de 45 km environ.\n\n  \n  \n 
URL:https://www.gien-relax.fr/event/randonnee-a-mardie-au-fil-du-cens/
CATEGORIES:SEC,Sorties à venir
END:VEVENT
BEGIN:VEVENT
DTSTART;TZID=Europe/Paris:20231217T090000
DTEND;TZID=Europe/Paris:20231217T120000
DTSTAMP:20260424T123634
CREATED:20211120T182856Z
LAST-MODIFIED:20231130T163701Z
UID:2611-1702803600-1702814400@www.gien-relax.fr
SUMMARY:Gien: SEC des Pères Noëls ...
DESCRIPTION:Rendez-vous: \n\nà 8h45 pour un départ à 9h00.\nParking place du Château à Gien.\nCircuit de 40 km environ.\nDéguisement en Pères Noëls recommandé
URL:https://www.gien-relax.fr/event/sec-a-gien-des-peres-noels/
LOCATION:Parking place du Château à Gien\, Parking place du Château\, Gien\, 45500
CATEGORIES:SEC,Sorties à venir
ATTACH;FMTTYPE=image/jpeg:https://www.gien-relax.fr/wp-content/uploads/2021/11/Pere-noel.jpg
END:VEVENT
BEGIN:VEVENT
DTSTART;TZID=Europe/Paris:20231203T090000
DTEND;TZID=Europe/Paris:20231203T120000
DTSTAMP:20260424T123634
CREATED:20231109T173124Z
LAST-MODIFIED:20231130T170122Z
UID:3114-1701594000-1701604800@www.gien-relax.fr
SUMMARY:DEC à Briare du téléthon ...
DESCRIPTION:Rendez-vous: \n\nà 8h45 pour un départ à 9h00.\nChez Eric Fleury au 1\, rue du Port aux Pierres à Briare.\nCircuit de 45 km environ en direction d’Ouzouer sur Trézée
URL:https://www.gien-relax.fr/event/sec-a-gien-8/
LOCATION:Gien – Place du Château\, Place du Château\, Gien
CATEGORIES:SEC,Sorties à venir
END:VEVENT
BEGIN:VEVENT
DTSTART;TZID=Europe/Paris:20231112T090000
DTEND;TZID=Europe/Paris:20231112T120000
DTSTAMP:20260424T123634
CREATED:20231109T173023Z
LAST-MODIFIED:20231109T173023Z
UID:3112-1699779600-1699790400@www.gien-relax.fr
SUMMARY:SEC à Gien ...
DESCRIPTION:Rendez-vous: \n\nà 8h45 pour un départ à 9h00.\nParking place du Château à Gien.\nCircuit de 45 km environ.
URL:https://www.gien-relax.fr/event/sec-a-gien-7/
LOCATION:Gien – Place du Château\, Place du Château\, Gien
CATEGORIES:SEC,Sorties à venir
END:VEVENT
BEGIN:VEVENT
DTSTART;TZID=Europe/Paris:20210711T083000
DTEND;TZID=Europe/Paris:20210711T120000
DTSTAMP:20260424T123634
CREATED:20160614T132116Z
LAST-MODIFIED:20220921T093753Z
UID:1120-1625992200-1626004800@www.gien-relax.fr
SUMMARY:DEC à Saint Satur sur Loire ...
DESCRIPTION:Rendez-vous: \n\nà 8h15 pour un départ à 8h30.\nParking 100 m après l’entrée du Camping à Saint-Satur.\nCircuit FFC N°30 de 35 km et 900 m D+\n\n  \n 
URL:https://www.gien-relax.fr/event/sec-a-gien-43/
CATEGORIES:SEC
END:VEVENT
BEGIN:VEVENT
DTSTART;TZID=Europe/Paris:20200823T083000
DTEND;TZID=Europe/Paris:20200823T120000
DTSTAMP:20260424T123634
CREATED:20190731T082139Z
LAST-MODIFIED:20220921T093935Z
UID:1822-1598171400-1598184000@www.gien-relax.fr
SUMMARY:SEC délocalisée à Châtillon sur Loire ...
DESCRIPTION:Rendez-vous: \n\nà 8h15 pour un départ à 8h30.\nBassin de Mantelot à Chatillon sur Loire.\nCircuit autour de Châtillon sur loire de 45 km .
URL:https://www.gien-relax.fr/event/sec-a-gien-9/
CATEGORIES:SEC
END:VEVENT
BEGIN:VEVENT
DTSTART;TZID=Europe/Paris:20200605T183000
DTEND;TZID=Europe/Paris:20200605T230000
DTSTAMP:20260424T123634
CREATED:20190527T100116Z
LAST-MODIFIED:20220921T094029Z
UID:1798-1591381800-1591398000@www.gien-relax.fr
SUMMARY:SNEC  Du Moulin Rouge ...
DESCRIPTION:Randonnée semi-Nocturne proposée par Dominique … \nRendez-vous: \n\nà 18h30 pour un départ à 19h00.\nPlace du Pâtis à coté du restaurant Le Coligny à Châtillon Coligny.\nCircuit roulant de 70 km avec les 30 derniers km en nocturne.\n\n \n  \n  \n  \n 
URL:https://www.gien-relax.fr/event/rec-raid-entre-copains-du-moulin-rouge/
LOCATION:Châtillon Coligny\, Châtillon Coligny\, 45230\, France
CATEGORIES:NEC,SEC
END:VEVENT
END:VCALENDAR